BEGIN:VCALENDAR
VERSION:2.0
PRODID:-//Discover Belleville - ECPv6.15.20//NONSGML v1.0//EN
CALSCALE:GREGORIAN
METHOD:PUBLISH
X-ORIGINAL-URL:https://discoverbelleville.ca
X-WR-CALDESC:Events for Discover Belleville
REFRESH-INTERVAL;VALUE=DURATION:PT1H
X-Robots-Tag:noindex
X-PUBLISHED-TTL:PT1H
BEGIN:VTIMEZONE
TZID:America/Toronto
BEGIN:DAYLIGHT
TZOFFSETFROM:-0500
TZOFFSETTO:-0400
TZNAME:EDT
DTSTART:20250309T070000
END:DAYLIGHT
BEGIN:STANDARD
TZOFFSETFROM:-0400
TZOFFSETTO:-0500
TZNAME:EST
DTSTART:20251102T060000
END:STANDARD
BEGIN:DAYLIGHT
TZOFFSETFROM:-0500
TZOFFSETTO:-0400
TZNAME:EDT
DTSTART:20260308T070000
END:DAYLIGHT
BEGIN:STANDARD
TZOFFSETFROM:-0400
TZOFFSETTO:-0500
TZNAME:EST
DTSTART:20261101T060000
END:STANDARD
BEGIN:DAYLIGHT
TZOFFSETFROM:-0500
TZOFFSETTO:-0400
TZNAME:EDT
DTSTART:20270314T070000
END:DAYLIGHT
BEGIN:STANDARD
TZOFFSETFROM:-0400
TZOFFSETTO:-0500
TZNAME:EST
DTSTART:20271107T060000
END:STANDARD
END:VTIMEZONE
BEGIN:VEVENT
DTSTART;TZID=America/Toronto:20260620T140000
DTEND;TZID=America/Toronto:20260620T153000
DTSTAMP:20260425T144809
CREATED:20260425T134719Z
LAST-MODIFIED:20260425T134719Z
UID:10005964-1781964000-1781969400@discoverbelleville.ca
SUMMARY:150th Anniversary Celebration and Commodore Sailpast
DESCRIPTION:Celebrate 150 years of the Bay of Quinte Yacht Club with us! View the Parade of Colourful boats and Military Fly Past (weather permitting) from Meyers Pier and south end of Victoria Park.
URL:https://discoverbelleville.ca/event/150th-anniversary-celebration-and-commodore-sailpast/
CATEGORIES:Belleville Events,Community
ATTACH;FMTTYPE=image/jpeg:https://discoverbelleville.ca/wp-content/uploads/2026/04/Social-Media-Sail-Past-90Bsfb.jpg
END:VEVENT
END:VCALENDAR