BEGIN:VCALENDAR
VERSION:2.0
PRODID:-//Discover Belleville - ECPv6.15.20//NONSGML v1.0//EN
CALSCALE:GREGORIAN
METHOD:PUBLISH
X-WR-CALNAME:Discover Belleville
X-ORIGINAL-URL:https://discoverbelleville.ca
X-WR-CALDESC:Events for Discover Belleville
REFRESH-INTERVAL;VALUE=DURATION:PT1H
X-Robots-Tag:noindex
X-PUBLISHED-TTL:PT1H
BEGIN:VTIMEZONE
TZID:America/Toronto
BEGIN:DAYLIGHT
TZOFFSETFROM:-0500
TZOFFSETTO:-0400
TZNAME:EDT
DTSTART:20250309T070000
END:DAYLIGHT
BEGIN:STANDARD
TZOFFSETFROM:-0400
TZOFFSETTO:-0500
TZNAME:EST
DTSTART:20251102T060000
END:STANDARD
BEGIN:DAYLIGHT
TZOFFSETFROM:-0500
TZOFFSETTO:-0400
TZNAME:EDT
DTSTART:20260308T070000
END:DAYLIGHT
BEGIN:STANDARD
TZOFFSETFROM:-0400
TZOFFSETTO:-0500
TZNAME:EST
DTSTART:20261101T060000
END:STANDARD
BEGIN:DAYLIGHT
TZOFFSETFROM:-0500
TZOFFSETTO:-0400
TZNAME:EDT
DTSTART:20270314T070000
END:DAYLIGHT
BEGIN:STANDARD
TZOFFSETFROM:-0400
TZOFFSETTO:-0500
TZNAME:EST
DTSTART:20271107T060000
END:STANDARD
END:VTIMEZONE
BEGIN:VEVENT
DTSTART;TZID=America/Toronto:20260404T180000
DTEND;TZID=America/Toronto:20260404T220000
DTSTAMP:20260425T120105
CREATED:20260401T074105Z
LAST-MODIFIED:20260404T082614Z
UID:10005830-1775325600-1775340000@discoverbelleville.ca
SUMMARY:Open Mic Night
DESCRIPTION:Come and bring your voices and your instruments and join Ray Flood in an evening of music from 6:00- 9:00.
URL:https://discoverbelleville.ca/event/open-mic-night-5/
LOCATION:ANAF DUKE OF EDINBURGH UNIT 201\, 187 Front St.\, Belleville\, K8N2Y9
CATEGORIES:Belleville Events,Community,Downtown Belleville Events
ATTACH;FMTTYPE=image/jpeg:https://discoverbelleville.ca/wp-content/uploads/2026/04/656899871_10173837064960114_3895091389623717129_n-LwdnWF.jpg
END:VEVENT
END:VCALENDAR