BEGIN:VCALENDAR
VERSION:2.0
PRODID:-//Discover Belleville - ECPv6.15.20//NONSGML v1.0//EN
CALSCALE:GREGORIAN
METHOD:PUBLISH
X-WR-CALNAME:Discover Belleville
X-ORIGINAL-URL:https://discoverbelleville.ca
X-WR-CALDESC:Events for Discover Belleville
REFRESH-INTERVAL;VALUE=DURATION:PT1H
X-Robots-Tag:noindex
X-PUBLISHED-TTL:PT1H
BEGIN:VTIMEZONE
TZID:America/Toronto
BEGIN:DAYLIGHT
TZOFFSETFROM:-0500
TZOFFSETTO:-0400
TZNAME:EDT
DTSTART:20250309T070000
END:DAYLIGHT
BEGIN:STANDARD
TZOFFSETFROM:-0400
TZOFFSETTO:-0500
TZNAME:EST
DTSTART:20251102T060000
END:STANDARD
BEGIN:DAYLIGHT
TZOFFSETFROM:-0500
TZOFFSETTO:-0400
TZNAME:EDT
DTSTART:20260308T070000
END:DAYLIGHT
BEGIN:STANDARD
TZOFFSETFROM:-0400
TZOFFSETTO:-0500
TZNAME:EST
DTSTART:20261101T060000
END:STANDARD
BEGIN:DAYLIGHT
TZOFFSETFROM:-0500
TZOFFSETTO:-0400
TZNAME:EDT
DTSTART:20270314T070000
END:DAYLIGHT
BEGIN:STANDARD
TZOFFSETFROM:-0400
TZOFFSETTO:-0500
TZNAME:EST
DTSTART:20271107T060000
END:STANDARD
END:VTIMEZONE
BEGIN:VEVENT
DTSTART;TZID=America/Toronto:20260411T150000
DTEND;TZID=America/Toronto:20260411T170000
DTSTAMP:20260425T102841
CREATED:20260401T074333Z
LAST-MODIFIED:20260411T101016Z
UID:10005847-1775919600-1775926800@discoverbelleville.ca
SUMMARY:Jazzlicious at L’Auberge de France
DESCRIPTION:L’Auberge hosts Good to Go\, the amazing duo of Suzanne Kozo-Allin and Micheal Bergeron as they present European style jazz at L’Auberge De France in Belleville.
URL:https://discoverbelleville.ca/event/jazzlicious-at-lauberge-de-france/
LOCATION:L’ Auberge de France\, 304 Front St.\, Belleville ON\, K8K2Z8\, Canada
CATEGORIES:Belleville Events,Community
ATTACH;FMTTYPE=image/jpeg:https://discoverbelleville.ca/wp-content/uploads/2026/04/2-znjpLq.jpg
END:VEVENT
END:VCALENDAR