BEGIN:VCALENDAR
VERSION:2.0
PRODID:-//Discover Belleville - ECPv6.15.20//NONSGML v1.0//EN
CALSCALE:GREGORIAN
METHOD:PUBLISH
X-ORIGINAL-URL:https://discoverbelleville.ca
X-WR-CALDESC:Events for Discover Belleville
REFRESH-INTERVAL;VALUE=DURATION:PT1H
X-Robots-Tag:noindex
X-PUBLISHED-TTL:PT1H
BEGIN:VTIMEZONE
TZID:America/Toronto
BEGIN:DAYLIGHT
TZOFFSETFROM:-0500
TZOFFSETTO:-0400
TZNAME:EDT
DTSTART:20250309T070000
END:DAYLIGHT
BEGIN:STANDARD
TZOFFSETFROM:-0400
TZOFFSETTO:-0500
TZNAME:EST
DTSTART:20251102T060000
END:STANDARD
BEGIN:DAYLIGHT
TZOFFSETFROM:-0500
TZOFFSETTO:-0400
TZNAME:EDT
DTSTART:20260308T070000
END:DAYLIGHT
BEGIN:STANDARD
TZOFFSETFROM:-0400
TZOFFSETTO:-0500
TZNAME:EST
DTSTART:20261101T060000
END:STANDARD
BEGIN:DAYLIGHT
TZOFFSETFROM:-0500
TZOFFSETTO:-0400
TZNAME:EDT
DTSTART:20270314T070000
END:DAYLIGHT
BEGIN:STANDARD
TZOFFSETFROM:-0400
TZOFFSETTO:-0500
TZNAME:EST
DTSTART:20271107T060000
END:STANDARD
END:VTIMEZONE
BEGIN:VEVENT
DTSTART;TZID=America/Toronto:20260415T170000
DTEND;TZID=America/Toronto:20260415T203000
DTSTAMP:20260423T134343
CREATED:20260401T074433Z
LAST-MODIFIED:20260415T110949Z
UID:10005855-1776272400-1776285000@discoverbelleville.ca
SUMMARY:Canada’s Top Mentalist\, Yan Markson – Shorelines Casino Belleville
DESCRIPTION:Are you ready to experience the impossible? See Canada’s Top Mentalist\, Yan Markson\, live for an evening of magic & mystery at Shorelines Casino. \nWednesday\, April 15\nBuffet Dinner: 5PM – 7PM\nLive Show: 7:30PM \n𝐒𝟓𝟎 𝐩𝐞𝐫 𝐩𝐞𝐫𝐬𝐨𝐧 — 𝐚𝐥𝐥 𝐢𝐧𝐜𝐥𝐮𝐬𝐢𝐯𝐞\nLimited Seating. \nGet your tickets in person at Windward Restaurant.\nGreat Canadian Rewards members can use comps toward tickets \nPlay Smart. Must be 19+
URL:https://discoverbelleville.ca/event/canadas-top-mentalist-yan-markson-shorelines-casino-belleville/
LOCATION:Shorelines Casino Belleville\, 380 Bell Blvd\, Belleville\, Ontario\, Canada
CATEGORIES:Belleville Events,Community
ATTACH;FMTTYPE=image/jpeg:https://discoverbelleville.ca/wp-content/uploads/2026/04/BEL-YAN-1080X1080-HzG1Ut.jpg
ORGANIZER;CN="Great Canadian Entertainment":MAILTO:information@greatcanadian.com
END:VEVENT
END:VCALENDAR