BEGIN:VCALENDAR
VERSION:2.0
PRODID:-//Discover Belleville - ECPv6.15.20//NONSGML v1.0//EN
CALSCALE:GREGORIAN
METHOD:PUBLISH
X-WR-CALNAME:Discover Belleville
X-ORIGINAL-URL:https://discoverbelleville.ca
X-WR-CALDESC:Events for Discover Belleville
REFRESH-INTERVAL;VALUE=DURATION:PT1H
X-Robots-Tag:noindex
X-PUBLISHED-TTL:PT1H
BEGIN:VTIMEZONE
TZID:America/Toronto
BEGIN:DAYLIGHT
TZOFFSETFROM:-0500
TZOFFSETTO:-0400
TZNAME:EDT
DTSTART:20250309T070000
END:DAYLIGHT
BEGIN:STANDARD
TZOFFSETFROM:-0400
TZOFFSETTO:-0500
TZNAME:EST
DTSTART:20251102T060000
END:STANDARD
BEGIN:DAYLIGHT
TZOFFSETFROM:-0500
TZOFFSETTO:-0400
TZNAME:EDT
DTSTART:20260308T070000
END:DAYLIGHT
BEGIN:STANDARD
TZOFFSETFROM:-0400
TZOFFSETTO:-0500
TZNAME:EST
DTSTART:20261101T060000
END:STANDARD
BEGIN:DAYLIGHT
TZOFFSETFROM:-0500
TZOFFSETTO:-0400
TZNAME:EDT
DTSTART:20270314T070000
END:DAYLIGHT
BEGIN:STANDARD
TZOFFSETFROM:-0400
TZOFFSETTO:-0500
TZNAME:EST
DTSTART:20271107T060000
END:STANDARD
END:VTIMEZONE
BEGIN:VEVENT
DTSTART;TZID=America/Toronto:20260523T083000
DTEND;TZID=America/Toronto:20260523T110000
DTSTAMP:20260425T192626
CREATED:20260425T134448Z
LAST-MODIFIED:20260425T134448Z
UID:10005962-1779525000-1779534000@discoverbelleville.ca
SUMMARY:Pancake\, Sausage and Scrambled Egg Breakfast
DESCRIPTION:Sidney Westminster United Church\, 1199 Wallbridge Loyalist Rd. is having a Pancake\, Sausage & Scrambled Egg Breakfast on Saturday\, May 23rd\, 2026\, from 8:30 am-11:00 am. Tea\, coffee and juice will be available.\nTickets may be purchased from the church\, Tuesday-Friday from 9:30 am-12:30 pm. Tickets will also be available at the door on the day of the event.\nTicket cost: Adults $10.00\, Children ages 6-12 are $7.00\, Children ages 0-6 “Free”\nThe phone number at the church is 613-968-4304.\nWe have Handicapped access\, an Elevator and lots of parking.
URL:https://discoverbelleville.ca/event/pancake-sausage-and-scrambled-egg-breakfast/
LOCATION:Sidney Westminster United Church\, 1199 Wallbridge-Loyalist Road\, Belleville\, ON\, K8N 4Z5
CATEGORIES:Belleville Events,Community
ATTACH;FMTTYPE=image/jpeg:https://discoverbelleville.ca/wp-content/uploads/2026/04/Pancake-Sausage-Scrambled-Egg-Breakfast-1-hKWFuA.jpg
ORGANIZER;CN="Sidney Westminster United Church":MAILTO:secretary@westminsteruc.ca
END:VEVENT
END:VCALENDAR